BEGIN:VCALENDAR
VERSION:2.0
PRODID:-//Portal do CEBI - ECPv6.15.20//NONSGML v1.0//EN
CALSCALE:GREGORIAN
METHOD:PUBLISH
X-WR-CALNAME:Portal do CEBI
X-ORIGINAL-URL:https://cebi.org.br
X-WR-CALDESC:Eventos para Portal do CEBI
REFRESH-INTERVAL;VALUE=DURATION:PT1H
X-Robots-Tag:noindex
X-PUBLISHED-TTL:PT1H
BEGIN:VTIMEZONE
TZID:America/Sao_Paulo
BEGIN:STANDARD
TZOFFSETFROM:-0300
TZOFFSETTO:-0300
TZNAME:-03
DTSTART:20250101T000000
END:STANDARD
END:VTIMEZONE
BEGIN:VEVENT
DTSTART;TZID=America/Sao_Paulo:20260422T193000
DTEND;TZID=America/Sao_Paulo:20260422T210000
DTSTAMP:20260422T071751
CREATED:20260415T193613Z
LAST-MODIFIED:20260415T193613Z
UID:112296-1776886200-1776891600@cebi.org.br
SUMMARY:O Seguimento de Jesus - Do movimento do Batista ao movimento de Jesus
DESCRIPTION:Estudo sobre o Seguimento de Jesus \nPrimeiro tema: Do movimento do Batista ao movimento de Jesus \nFacilitador: Francisco Orofino
URL:https://cebi.org.br/atividade/o-seguimento-de-jesus-do-movimento-do-batista-ao-movimento-de-jesus/
END:VEVENT
END:VCALENDAR